Workbook
Name IQ_CH: 110000
Name IQ_CQ: 5000
Name IQ_CY: 10000
Name IQ_DAILY: 500000
Name IQ_FH: 100000
Name IQ_FQ: 500
Name IQ_FY: 1000
Name IQ_LTM: 2000
Name IQ_MONTH: 15000
Name IQ_NTM: 6000
Name IQ_WEEK: 50000
Name IQ_YTD: 3000

Sheet Charts 8x10

Sheet Chart Data
A1: Total Loans
B3: Bank 1 | C3: Bank 2 | D3: Bank 3 | E3: Bank 4 | F3: Bank 5
A4: Q4/29 | B4: ='Qtrly Data'!B4 -> 628.24 | C4: =B4 -> 628.24 | D4: =C4 -> 628.24 | E4: =D4 -> 628.24 | F4: =E4 -> 628.24
A5: Q1/30 | B5: =IF('Qtrly Data'!$B$23=1,'Qtrly Data'!B24,NA()) -> 660.8 | C5: =IF('Qtrly Data'!$B$23=1,'Qtrly Data'!C24,NA()) -> 678.2 | D5: =IF('Qtrly Data'!$B$23=1,'Qtrly Data'!D24,NA()) -> 661.8 | E5: =IF('Qtrly Data'!$B$23=1,'Qtrly Data'!E24,NA()) -> 671.3 | F5: =IF('Qtrly Data'!$B$23=1,'Qtrly Data'!#REF!,NA()) -> #REF!
A6: Q2/30 | B6: =IF('Qtrly Data'!$B$43=1,'Qtrly Data'!B44,NA()) -> 657.3 | C6: =IF('Qtrly Data'!$B$43=1,'Qtrly Data'!C44,NA()) -> 686.1 | D6: =IF('Qtrly Data'!$B$43=1,'Qtrly Data'!D44,NA()) -> 694.1 | E6: =IF('Qtrly Data'!$B$43=1,'Qtrly Data'!E44,NA()) -> 667.8 | F6: =IF('Qtrly Data'!$B$43=1,'Qtrly Data'!#REF!,NA()) -> #REF!
A7: Q3/30 | B7: =IF('Qtrly Data'!$B$63=1,'Qtrly Data'!B64,NA()) -> 657.1 | C7: =IF('Qtrly Data'!$B$63=1,'Qtrly Data'!C64,NA()) -> 657.6 | D7: =IF('Qtrly Data'!$B$63=1,'Qtrly Data'!D64,NA()) -> 692 | E7: =IF('Qtrly Data'!$B$63=1,'Qtrly Data'!E64,NA()) -> 641.5 | F7: =IF('Qtrly Data'!$B$63=1,'Qtrly Data'!#REF!,NA()) -> #REF!
A8: Q4/30 | B8: =IF('Qtrly Data'!$B$83=1,'Qtrly Data'!B84,NA()) -> 660.3 | C8: =IF('Qtrly Data'!$B$83=1,'Qtrly Data'!C84,NA()) -> 655.7 | D8: =IF('Qtrly Data'!$B$83=1,'Qtrly Data'!D84,NA()) -> 630.4 | E8: =IF('Qtrly Data'!$B$83=1,'Qtrly Data'!E84,NA()) -> 586.6 | F8: =IF('Qtrly Data'!$B$83=1,'Qtrly Data'!#REF!,NA()) -> #REF!
A9: Q1/31 | B9: =IF('Qtrly Data'!$B$103=1,'Qtrly Data'!B104,NA()) -> 657.8 | C9: =IF('Qtrly Data'!$B$103=1,'Qtrly Data'!C104,NA()) -> 616.4 | D9: =IF('Qtrly Data'!$B$103=1,'Qtrly Data'!D104,NA()) -> 597.5 | E9: =IF('Qtrly Data'!$B$103=1,'Qtrly Data'!E104,NA()) -> 562.7 | F9: =IF('Qtrly Data'!$B$103=1,'Qtrly Data'!#REF!,NA()) -> #REF!
A10: Q2/31 | B10: =IF('Qtrly Data'!$B$123=1,'Qtrly Data'!B124,NA()) -> 688.7 | C10: =IF('Qtrly Data'!$B$123=1,'Qtrly Data'!C124,NA()) -> 607.8 | D10: =IF('Qtrly Data'!$B$123=1,'Qtrly Data'!D124,NA()) -> 615 | E10: =IF('Qtrly Data'!$B$123=1,'Qtrly Data'!E124,NA()) -> 591.7 | F10: =IF('Qtrly Data'!$B$123=1,'Qtrly Data'!#REF!,NA()) -> #REF!
A11: Q3/31 | B11: =IF('Qtrly Data'!$B$143=1,'Qtrly Data'!B144,NA()) -> 689.4 | C11: =IF('Qtrly Data'!$B$143=1,'Qtrly Data'!C144,NA()) -> 622 | D11: =IF('Qtrly Data'!$B$143=1,'Qtrly Data'!D144,NA()) -> 639.6 | E11: =IF('Qtrly Data'!$B$143=1,'Qtrly Data'!E144,NA()) -> 623.1 | F11: =IF('Qtrly Data'!$B$143=1,'Qtrly Data'!#REF!,NA()) -> #REF!
A12: Q4/31 | B12: =IF('Qtrly Data'!$B$163=1,'Qtrly Data'!B164,NA()) -> 713.6 | C12: =IF('Qtrly Data'!$B$163=1,'Qtrly Data'!C164,NA()) -> 647.4 | D12: =IF('Qtrly Data'!$B$163=1,'Qtrly Data'!D164,NA()) -> 676.2 | E12: =IF('Qtrly Data'!$B$163=1,'Qtrly Data'!E164,NA()) -> 664.3 | F12: =IF('Qtrly Data'!$B$163=1,'Qtrly Data'!#REF!,NA()) -> #REF!
A14: Total Assets
B16: Bank 1 | C16: Bank 2 | D16: Bank 3 | E16: Bank 4 | F16: Bank 5
A17: Q4/29 | B17: ='Qtrly Data'!B5 -> 781.093 | C17: =B17 -> 781.093 | D17: =C17 -> 781.093 | E17: =D17 -> 781.093 | F17: =E17 -> 781.093
A18: Q1/30 | B18: =IF('Qtrly Data'!$B$23=1,'Qtrly Data'!B25,NA()) -> 817.6 | C18: =IF('Qtrly Data'!$B$23=1,'Qtrly Data'!C25,NA()) -> 834.9 | D18: =IF('Qtrly Data'!$B$23=1,'Qtrly Data'!D25,NA()) -> 816.4 | E18: =IF('Qtrly Data'!$B$23=1,'Qtrly Data'!E25,NA()) -> 825.9 | F18: =IF('Qtrly Data'!$B$23=1,'Qtrly Data'!#REF!,NA()) -> #REF!
A19: Q2/30 | B19: =IF('Qtrly Data'!$B$43=1,'Qtrly Data'!B45,NA()) -> 849.2 | C19: =IF('Qtrly Data'!$B$43=1,'Qtrly Data'!C45,NA()) -> 851.7 | D19: =IF('Qtrly Data'!$B$43=1,'Qtrly Data'!D45,NA()) -> 861.7 | E19: =IF('Qtrly Data'!$B$43=1,'Qtrly Data'!E45,NA()) -> 837.6 | F19: =IF('Qtrly Data'!$B$43=1,'Qtrly Data'!#REF!,NA()) -> #REF!
A20: Q3/30 | B20: =IF('Qtrly Data'!$B$63=1,'Qtrly Data'!B65,NA()) -> 845.3 | C20: =IF('Qtrly Data'!$B$63=1,'Qtrly Data'!C65,NA()) -> 841.9 | D20: =IF('Qtrly Data'!$B$63=1,'Qtrly Data'!D65,NA()) -> 888.3 | E20: =IF('Qtrly Data'!$B$63=1,'Qtrly Data'!E65,NA()) -> 815.5 | F20: =IF('Qtrly Data'!$B$63=1,'Qtrly Data'!#REF!,NA()) -> #REF!
A21: Q4/30 | B21: =IF('Qtrly Data'!$B$83=1,'Qtrly Data'!B85,NA()) -> 872.4 | C21: =IF('Qtrly Data'!$B$83=1,'Qtrly Data'!C85,NA()) -> 836 | D21: =IF('Qtrly Data'!$B$83=1,'Qtrly Data'!D85,NA()) -> 835.9 | E21: =IF('Qtrly Data'!$B$83=1,'Qtrly Data'!E85,NA()) -> 796.2 | F21: =IF('Qtrly Data'!$B$83=1,'Qtrly Data'!#REF!,NA()) -> #REF!
A22: Q1/31 | B22: =IF('Qtrly Data'!$B$103=1,'Qtrly Data'!B105,NA()) -> 871.9 | C22: =IF('Qtrly Data'!$B$103=1,'Qtrly Data'!C105,NA()) -> 837 | D22: =IF('Qtrly Data'!$B$103=1,'Qtrly Data'!D105,NA()) -> 853.5 | E22: =IF('Qtrly Data'!$B$103=1,'Qtrly Data'!E105,NA()) -> 823.7 | F22: =IF('Qtrly Data'!$B$103=1,'Qtrly Data'!#REF!,NA()) -> #REF!
A23: Q2/31 | B23: =IF('Qtrly Data'!$B$123=1,'Qtrly Data'!B125,NA()) -> 895.2 | C23: =IF('Qtrly Data'!$B$123=1,'Qtrly Data'!C125,NA()) -> 844.6 | D23: =IF('Qtrly Data'!$B$123=1,'Qtrly Data'!D125,NA()) -> 834.6 | E23: =IF('Qtrly Data'!$B$123=1,'Qtrly Data'!E125,NA()) -> 822.3 | F23: =IF('Qtrly Data'!$B$123=1,'Qtrly Data'!#REF!,NA()) -> #REF!
A24: Q3/31 | B24: =IF('Qtrly Data'!$B$143=1,'Qtrly Data'!B145,NA()) -> 911.7 | C24: =IF('Qtrly Data'!$B$143=1,'Qtrly Data'!C145,NA()) -> 855 | D24: =IF('Qtrly Data'!$B$143=1,'Qtrly Data'!D145,NA()) -> 834.9 | E24: =IF('Qtrly Data'!$B$143=1,'Qtrly Data'!E145,NA()) -> 840.4 | F24: =IF('Qtrly Data'!$B$143=1,'Qtrly Data'!#REF!,NA()) -> #REF!
A25: Q4/31 | B25: =IF('Qtrly Data'!$B$163=1,'Qtrly Data'!B165,NA()) -> 918.4 | C25: =IF('Qtrly Data'!$B$163=1,'Qtrly Data'!C165,NA()) -> 865.9 | D25: =IF('Qtrly Data'!$B$163=1,'Qtrly Data'!D165,NA()) -> 865.4 | E25: =IF('Qtrly Data'!$B$163=1,'Qtrly Data'!E165,NA()) -> 873.6 | F25: =IF('Qtrly Data'!$B$163=1,'Qtrly Data'!#REF!,NA()) -> #REF!
A27: Core Deposits
B29: Bank 1 | C29: Bank 2 | D29: Bank 3 | E29: Bank 4 | F29: Bank 5
A30: Q4/29 | B30: ='Qtrly Data'!B6 -> 634.133 | C30: =B30 -> 634.133 | D30: =C30 -> 634.133 | E30: =D30 -> 634.133 | F30: =E30 -> 634.133
A31: Q1/30 | B31: =IF('Qtrly Data'!$B$23=1,'Qtrly Data'!B26,NA()) -> 667.9 | C31: =IF('Qtrly Data'!$B$23=1,'Qtrly Data'!C26,NA()) -> 665.5 | D31: =IF('Qtrly Data'!$B$23=1,'Qtrly Data'!D26,NA()) -> 644.2 | E31: =IF('Qtrly Data'!$B$23=1,'Qtrly Data'!E26,NA()) -> 647.6 | F31: =IF('Qtrly Data'!$B$23=1,'Qtrly Data'!#REF!,NA()) -> #REF!
A32: Q2/30 | B32: =IF('Qtrly Data'!$B$43=1,'Qtrly Data'!B46,NA()) -> 703.4 | C32: =IF('Qtrly Data'!$B$43=1,'Qtrly Data'!C46,NA()) -> 698.1 | D32: =IF('Qtrly Data'!$B$43=1,'Qtrly Data'!D46,NA()) -> 657.2 | E32: =IF('Qtrly Data'!$B$43=1,'Qtrly Data'!E46,NA()) -> 665.2 | F32: =IF('Qtrly Data'!$B$43=1,'Qtrly Data'!#REF!,NA()) -> #REF!
A33: Q3/30 | B33: =IF('Qtrly Data'!$B$63=1,'Qtrly Data'!B66,NA()) -> 741.6 | C33: =IF('Qtrly Data'!$B$63=1,'Qtrly Data'!C66,NA()) -> 723.6 | D33: =IF('Qtrly Data'!$B$63=1,'Qtrly Data'!D66,NA()) -> 689.4 | E33: =IF('Qtrly Data'!$B$63=1,'Qtrly Data'!E66,NA()) -> 689.9 | F33: =IF('Qtrly Data'!$B$63=1,'Qtrly Data'!#REF!,NA()) -> #REF!
A34: Q4/30 | B34: =IF('Qtrly Data'!$B$83=1,'Qtrly Data'!B86,NA()) -> 758.2 | C34: =IF('Qtrly Data'!$B$83=1,'Qtrly Data'!C86,NA()) -> 728.9 | D34: =IF('Qtrly Data'!$B$83=1,'Qtrly Data'!D86,NA()) -> 706.2 | E34: =IF('Qtrly Data'!$B$83=1,'Qtrly Data'!E86,NA()) -> 708.1 | F34: =IF('Qtrly Data'!$B$83=1,'Qtrly Data'!#REF!,NA()) -> #REF!
A35: Q1/31 | B35: =IF('Qtrly Data'!$B$103=1,'Qtrly Data'!B106,NA()) -> 762.1 | C35: =IF('Qtrly Data'!$B$103=1,'Qtrly Data'!C106,NA()) -> 740.6 | D35: =IF('Qtrly Data'!$B$103=1,'Qtrly Data'!D106,NA()) -> 722.6 | E35: =IF('Qtrly Data'!$B$103=1,'Qtrly Data'!E106,NA()) -> 728.8 | F35: =IF('Qtrly Data'!$B$103=1,'Qtrly Data'!#REF!,NA()) -> #REF!
A36: Q2/31 | B36: =IF('Qtrly Data'!$B$123=1,'Qtrly Data'!B126,NA()) -> 788.4 | C36: =IF('Qtrly Data'!$B$123=1,'Qtrly Data'!C126,NA()) -> 742.5 | D36: =IF('Qtrly Data'!$B$123=1,'Qtrly Data'!D126,NA()) -> 739 | E36: =IF('Qtrly Data'!$B$123=1,'Qtrly Data'!E126,NA()) -> 728.5 | F36: =IF('Qtrly Data'!$B$123=1,'Qtrly Data'!#REF!,NA()) -> #REF!
A37: Q3/31 | B37: =IF('Qtrly Data'!$B$143=1,'Qtrly Data'!B146,NA()) -> 802.5 | C37: =IF('Qtrly Data'!$B$143=1,'Qtrly Data'!C146,NA()) -> 750.6 | D37: =IF('Qtrly Data'!$B$143=1,'Qtrly Data'!D146,NA()) -> 737.6 | E37: =IF('Qtrly Data'!$B$143=1,'Qtrly Data'!E146,NA()) -> 744.3 | F37: =IF('Qtrly Data'!$B$143=1,'Qtrly Data'!#REF!,NA()) -> #REF!
A38: Q4/31 | B38: =IF('Qtrly Data'!$B$163=1,'Qtrly Data'!B166,NA()) -> 805.6 | C38: =IF('Qtrly Data'!$B$163=1,'Qtrly Data'!C166,NA()) -> 758.6 | D38: =IF('Qtrly Data'!$B$163=1,'Qtrly Data'!D166,NA()) -> 750.4 | E38: =IF('Qtrly Data'!$B$163=1,'Qtrly Data'!E166,NA()) -> 774.1 | F38: =IF('Qtrly Data'!$B$163=1,'Qtrly Data'!#REF!,NA()) -> #REF!
A40: Fed Funds
B42: Bank 1 | C42: Bank 2 | D42: Bank 3 | E42: Bank 4 | F42: Bank 5
A43: Q4/29 | B43: ='Qtrly Data'!B7 -> -29.175 | C43: =B43 -> -29.175 | D43: =C43 -> -29.175 | E43: =D43 -> -29.175 | F43: =E43 -> -29.175
A44: Q1/30 | B44: =IF('Qtrly Data'!$B$23=1,'Qtrly Data'!B27,NA()) -> -20.4 | C44: =IF('Qtrly Data'!$B$23=1,'Qtrly Data'!C27,NA()) -> -25.4 | D44: =IF('Qtrly Data'!$B$23=1,'Qtrly Data'!D27,NA()) -> -23.4 | E44: =IF('Qtrly Data'!$B$23=1,'Qtrly Data'!E27,NA()) -> -24.4 | F44: =IF('Qtrly Data'!$B$23=1,'Qtrly Data'!#REF!,NA()) -> #REF!
A45: Q2/30 | B45: =IF('Qtrly Data'!$B$43=1,'Qtrly Data'!B47,NA()) -> -20.2 | C45: =IF('Qtrly Data'!$B$43=1,'Qtrly Data'!C47,NA()) -> -8.6 | D45: =IF('Qtrly Data'!$B$43=1,'Qtrly Data'!D47,NA()) -> -29.6 | E45: =IF('Qtrly Data'!$B$43=1,'Qtrly Data'!E47,NA()) -> -17.8 | F45: =IF('Qtrly Data'!$B$43=1,'Qtrly Data'!#REF!,NA()) -> #REF!
A46: Q3/30 | B46: =IF('Qtrly Data'!$B$63=1,'Qtrly Data'!B67,NA()) -> 1.8 | C46: =IF('Qtrly Data'!$B$63=1,'Qtrly Data'!C67,NA()) -> 10.7 | D46: =IF('Qtrly Data'!$B$63=1,'Qtrly Data'!D67,NA()) -> 25 | E46: =IF('Qtrly Data'!$B$63=1,'Qtrly Data'!E67,NA()) -> 1.5 | F46: =IF('Qtrly Data'!$B$63=1,'Qtrly Data'!#REF!,NA()) -> #REF!
A47: Q4/30 | B47: =IF('Qtrly Data'!$B$83=1,'Qtrly Data'!B87,NA()) -> 2.4 | C47: =IF('Qtrly Data'!$B$83=1,'Qtrly Data'!C87,NA()) -> -12.3 | D47: =IF('Qtrly Data'!$B$83=1,'Qtrly Data'!D87,NA()) -> 36.6 | E47: =IF('Qtrly Data'!$B$83=1,'Qtrly Data'!E87,NA()) -> 10.8 | F47: =IF('Qtrly Data'!$B$83=1,'Qtrly Data'!#REF!,NA()) -> #REF!
...

Sheet Qtrly Data
A1: Quarterly Data
A3: C91 -- Bank Balance Sheets, as of 12/31/29 | B3: 1 | C3: 2 | D3: 3 | E3: 4
A4: Loans | B4: 628.24 | C4: 628.24 | D4: 628.24 | E4: 628.24
A5: Total Assets | B5: 781.093 | C5: 781.093 | D5: 781.093 | E5: 781.093
A6: Core Dep | B6: 634.133 | C6: 634.133 | D6: 634.133 | E6: 634.133
A7: Fed Funds | B7: -29.175 | C7: -29.175 | D7: -29.175 | E7: -29.175
A8: NLA/TA | B8: -0.0119 | C8: -0.0119 | D8: -0.0119 | E8: -0.0119
A9: L/D | B9: 0.9359 | C9: 0.9359 | D9: 0.9359 | E9: 0.9359
A10: Eq/TA | B10: 0.061 | C10: 0.061 | D10: 0.061 | E10: 0.061
A11: NIM | B11: 0.0324 | C11: 0.0324 | D11: 0.0324 | E11: 0.0324
A12: Op Earn / TA | B12: 0.0032 | C12: 0.0032 | D12: 0.0032 | E12: 0.0032
A13: ROA | B13: 0.0024 | C13: 0.0024 | D13: 0.0024 | E13: 0.0024
A14: ROE | B14: 0.0385 | C14: 0.0385 | D14: 0.0385 | E14: 0.0385
... A177: Avg Credit Quality* | B177: 2.43 | C177: 2.71 | D177: 2.86 | E177: 2.86
